Workbook
Name No: ref_sheet!$C$4:$C$6
Name pmo: ref_sheet!#REF!
Name status: ref_sheet!#REF!
Name Yes: ref_sheet!$B$4:$B$6
Name yn: ref_sheet!$A$4:$A$5

Sheet PMO Self Assess
B3: PMO: | D3: PMO Manager: | J3: PMO Reviewer: | K3: Review Date:
B4: Your PMO Name | D4: Someone Senior | J4: Your Name | K4: 45505
B6: PMO Score | I6: =IF($B$7>=16,"PMO State: Operating Optimally",IF($B$7>0,"PMO State: Operating effectively but Remedial Actions Identified",IF($B$7>-24,"PMO State: Requires Immediate Action"))) -> PMO State: Requires Immediate Action
B7: =SUM(D10:D21) -> 0
B9: MOT Sections (Scores from -2 to +2) | C9: Available | D9: Section | E9: Value | F9: Score
B10: Executive Support | C10: =COUNTIF($C31:$C34,"Yes")+(COUNTIF($I31:$I34,"Needs Attention")) -> 0 | D10: =IF($I10="n/a","n/a",SUM(D31:D34)/(C10*2)) -> n/a | E10: =IF($I10="n/a","n/a",VLOOKUP($G30,Figure!$J$20:$K$100,2,FALSE)) -> n/a | F10: =IF($I10="n/a","n/a",D10+E10) -> n/a | I10: =IF(C10=0,"n/a","") -> n/a
B11: Portfolio Management | C11: =COUNTIF(C36:C39,"Yes")+(COUNTIF(I36:I39,"Needs Attention")) -> 0 | D11: =IF($I11="n/a","n/a",SUM(D36:D39)/(C11*2)) -> n/a | E11: =IF($I11="n/a","n/a",VLOOKUP(G35,Figure!$J$20:$K$100,2,FALSE)) -> n/a | F11: =IF($I11="n/a","n/a",D11+E11) -> n/a | I11: =IF(C11=0,"n/a","") -> n/a
B12: Programme Management | C12: =COUNTIF($C41:$C44,"Yes")+(COUNTIF($I41:$I44,"Needs Attention")) -> 0 | D12: =IF($I12="n/a","n/a",SUM(D41:D44)/(C12*2)) -> n/a | E12: =IF($I12="n/a","n/a",VLOOKUP(G40,Figure!$J$20:$K$100,2,FALSE)) -> n/a | F12: =IF($I12="n/a","n/a",D12+E12) -> n/a | I12: =IF(C12=0,"n/a","") -> n/a
B13: Project Management | C13: =COUNTIF($C46:$C49,"Yes")+(COUNTIF($I46:$I49,"Needs Attention")) -> 0 | D13: =IF($I13="n/a","n/a",SUM(D46:D49)/(C13*2)) -> n/a | E13: =IF($I13="n/a","n/a",VLOOKUP(G45,Figure!$J$20:$K$100,2,FALSE)) -> n/a | F13: =IF($I13="n/a","n/a",D13+E13) -> n/a | I13: =IF(C13=0,"n/a","") -> n/a
B14: Planning | C14: =COUNTIF($C51:$C54,"Yes")+(COUNTIF($I51:$I54,"Needs Attention")) -> 0 | D14: =IF($I14="n/a","n/a",SUM(D51:D54)/(C14*2)) -> n/a | E14: =IF($I14="n/a","n/a",VLOOKUP($G50,Figure!$J$20:$K$100,2,FALSE)) -> n/a | F14: =IF($I14="n/a","n/a",D14+E14) -> n/a | I14: =IF(C14=0,"n/a","") -> n/a
B15: Post Project & Benefits Realisation | C15: =COUNTIF($C56:$C59,"Yes")+(COUNTIF($I56:$I59,"Needs Attention")) -> 0 | D15: =IF($I15="n/a","n/a",SUM(D56:D59)/(C15*2)) -> n/a | E15: =IF($I15="n/a","n/a",VLOOKUP($G55,Figure!$J$20:$K$100,2,FALSE)) -> n/a | F15: =IF($I15="n/a","n/a",D15+E15) -> n/a | I15: =IF(C15=0,"n/a","") -> n/a
B16: Governance Arrangements | C16: =COUNTIF($C61:$C64,"Yes")+(COUNTIF($I61:$I64,"Needs Attention")) -> 0 | D16: =IF($I16="n/a","n/a",SUM(D61:D64)/(C16*2)) -> n/a | E16: =IF($I16="n/a","n/a",VLOOKUP($G60,Figure!$J$20:$K$100,2,FALSE)) -> n/a | F16: =IF($I16="n/a","n/a",D16+E16) -> n/a | I16: =IF(C16=0,"n/a","") -> n/a
B17: Communications & Collaboration | C17: =COUNTIF($C66:$C69,"Yes")+(COUNTIF($I66:$I69,"Needs Attention")) -> 0 | D17: =IF($I17="n/a","n/a",SUM(D66:D69)/(C17*2)) -> n/a | E17: =IF($I17="n/a","n/a",VLOOKUP($G65,Figure!$J$20:$K$100,2,FALSE)) -> n/a | F17: =IF($I17="n/a","n/a",D17+E17) -> n/a | I17: =IF(C17=0,"n/a","") -> n/a
B18: Capability Development | C18: =COUNTIF(C71:C74,"Yes")+(COUNTIF(I71:I74,"Needs Attention")) -> 0 | D18: =IF($I18="n/a","n/a",SUM(D71:D74)/(C18*2)) -> n/a | E18: =IF($I18="n/a","n/a",VLOOKUP(G70,Figure!$J$20:$K$100,2,FALSE)) -> n/a | F18: =IF($I18="n/a","n/a",D18+E18) -> n/a | I18: =IF(C18=0,"n/a","") -> n/a
B19: PMO Maturity | C19: =COUNTIF(C76:C79,"Yes")+(COUNTIF(I76:I79,"Needs Attention")) -> 0 | D19: =IF($I19="n/a","n/a",SUM(D76:D79)/(C19*2)) -> n/a | E19: =IF($I19="n/a","n/a",VLOOKUP(G75,Figure!$J$20:$K$100,2,FALSE)) -> n/a | F19: =IF($I19="n/a","n/a",D19+E19) -> n/a | I19: =IF(C19=0,"n/a","") -> n/a
B20: Add your own here (not on radar) | C20: =COUNTIF(C81:C84,"Yes")+(COUNTIF(I81:I84,"Needs Attention")) -> 0 | D20: =IF(I20="n/a","n/a",SUM($D81:$D84)/($C20*2)) -> n/a | E20: =IF($I20="n/a","n/a",VLOOKUP(G80,Figure!$J$20:$K$100,2,FALSE)) -> n/a | F20: =IF($I20="n/a","n/a",D20+E20) -> n/a | I20: =IF(C20=0,"n/a","") -> n/a
B21: Add your own here (not on radar) | C21: =COUNTIF(C86:C89,"Yes")+(COUNTIF(I86:I89,"Needs Attention")) -> 0 | D21: =IF(I21="n/a","n/a",SUM($D86:$D89)/($C21*2)) -> n/a | E21: =IF($I21="n/a","n/a",VLOOKUP(G85,Figure!$J$20:$K$100,2,FALSE)) -> n/a | F21: =IF($I21="n/a","n/a",D21+E21) -> n/a | I21: =IF(C21=0,"n/a","") -> n/a
B23: Scoring Guidance
B24: Fully agree /in place and/or is available to our internal PMO Customers | F24: 4
B25: Agree / being implemented or developing at the moment | F25: 2 | I25: Measuring how fit your PMO is for your maturity journey
B26: Meh / I don’t know / this is out of scope for us and will remain out of scope | F26: 0 | I26: 1. Select Yes or No in the 'Available' column to indicate the level of agreement with the statement using the Scoring Guidance on the left, and select the relevant score from 4 to -4 from the 'Score' drop down 2. Select High, Medium or Low from the 'Value to the PMO and Organisation' and 'Difficulty to Embed' drop downs 3. If the question or section is Not Applicable to your project enter No in the 'Complete' column, and select a 0 score. The 'Status' column will indicate if any questions are incomplete or not applicable 4. Please note that the the two additional sections are optional and will NOT be included in the Results Radar but will be taken into account for the overall score
B27: Disagree / we are planning this and it is scheduled in our roadmap | F27: -2
B28: Totally Disagree / we are planning this for the future but it is not scheduled | F28: -4
B30: Executive Support | C30: Available | D30: Score | E30: Value | F30: Difficulty | G30: =ROUNDUP(SUM(G31:G34)/10,0)*10 -> 0 | I30: Status | J30: Comments and Actions
B31: 1.1 The PMO Sponsor shares accountability with the PMO for ensuring its success | G31: =IFERROR(VLOOKUP(E31,ref_sheet!$D$4:$E$6,2,FALSE)*(VLOOKUP(F31,ref_sheet!$D$9:$E$11,2,FALSE))," ") | I31: =IF(C31="No",IF(D31=0,"Not Applicable","Needs Attention"),"")
B32: 1.2 Senior management will be responsive to requests for support and additional resources if properly justified (as the need arises) | G32: =IFERROR(VLOOKUP(E32,ref_sheet!$D$4:$E$6,2,FALSE)*(VLOOKUP(F32,ref_sheet!$D$9:$E$11,2,FALSE))," ") | I32: =IF(C32="No",IF(D32=0,"Not Applicable","Needs Attention"),"")
B33: 1.3 The PMO is represented at Executive meetings on a regular basis so the organisation understand the PMO services available to them | G33: =IFERROR(VLOOKUP(E33,ref_sheet!$D$4:$E$6,2,FALSE)*(VLOOKUP(F33,ref_sheet!$D$9:$E$11,2,FALSE))," ") | I33: =IF(C33="No",IF(D33=0,"Not Applicable","Needs Attention"),"")
B34: 1.4 The PMO Sponsor uses the information provided by the PMO as the single source of truth to support organisational decision making | G34: =IFERROR(VLOOKUP(E34,ref_sheet!$D$4:$E$6,2,FALSE)*(VLOOKUP(F34,ref_sheet!$D$9:$E$11,2,FALSE))," ") | I34: =IF(C34="No",IF(D34=0,"Not Applicable","Needs Attention"),"")
B35: Portfolio Management | C35: Available | D35: Score | E35: Value | F35: Difficulty | G35: =ROUND(SUM(G36:G39)/10,0)*10 -> 0 | I35: Status | J35: Comments and Actions
B36: 2.1 Portfolios are prioritised based on the value each project contributes to the organization's goals & objectives and calibrated by investment of effort and time to deploy | G36: =IFERROR(VLOOKUP(E36,ref_sheet!$D$4:$E$6,2,FALSE)*(VLOOKUP(F36,ref_sheet!$D$9:$E$11,2,FALSE))," ") | I36: =IF(C36="No",IF(D36=0,"Not Applicable","Needs Attention"),"")
B37: 2.2 Portfolios are re-prioritised regularly in line with the business planning cycle | G37: =IFERROR(VLOOKUP(E37,ref_sheet!$D$4:$E$6,2,FALSE)*(VLOOKUP(F37,ref_sheet!$D$9:$E$11,2,FALSE))," ") | I37: =IF(C37="No",IF(D37=0,"Not Applicable","Needs Attention"),"")
B38: 2.3 The portfolio management process includes tracking completed projects and monitoring the benefits realised versus their business cases | G38: =IFERROR(VLOOKUP(E38,ref_sheet!$D$4:$E$6,2,FALSE)*(VLOOKUP(F38,ref_sheet!$D$9:$E$11,2,FALSE))," ") | I38: =IF(C38="No",IF(D38=0,"Not Applicable","Needs Attention"),"")
B39: 2.4 Pending projects are released for delivery based the current availability of resources so that the organisation does not over extend its ability to complete what it starts | G39: =IFERROR(VLOOKUP(E39,ref_sheet!$D$4:$E$6,2,FALSE)*(VLOOKUP(F39,ref_sheet!$D$9:$E$11,2,FALSE))," ") | I39: =IF(C39="No",IF(D39=0,"Not Applicable","Needs Attention"),"")
B40: Programme Management | C40: Available | D40: Score | E40: Value | F40: Difficulty | G40: =ROUND(SUM(G41:G44)/10,0)*10 -> 0 | I40: Status | J40: Comments and Actions
B41: 3.1 Programmes are managed discretely to the project lifecycle and considered with an outcomes perspective alongside delivery of outputs | G41: =IFERROR(VLOOKUP(E41,ref_sheet!$D$4:$E$6,2,FALSE)*(VLOOKUP(F41,ref_sheet!$D$9:$E$11,2,FALSE))," ") | I41: =IF(C41="No",IF(D41=0,"Not Applicable","Needs Attention"),"")
B42: 3.2 Change Management is a key discipline in all programmes with dedicated effort and (if applicable) resource | G42: =IFERROR(VLOOKUP(E42,ref_sheet!$D$4:$E$6,2,FALSE)*(VLOOKUP(F42,ref_sheet!$D$9:$E$11,2,FALSE))," ") | I42: =IF(C42="No",IF(D42=0,"Not Applicable","Needs Attention"),"")
B43: 3.3 The programme management process includes tracking against the expected outcomes as detailed in the Programme blueprint | G43: =IFERROR(VLOOKUP(E43,ref_sheet!$D$4:$E$6,2,FALSE)*(VLOOKUP(F43,ref_sheet!$D$9:$E$11,2,FALSE))," ") | I43: =IF(C43="No",IF(D43=0,"Not Applicable","Needs Attention"),"")
B44: 3.4 Programme governance allows for projects to easily identify and escalate problems, request help and resources | G44: =IFERROR(VLOOKUP(E44,ref_sheet!$D$4:$E$6,2,FALSE)*(VLOOKUP(F44,ref_sheet!$D$9:$E$11,2,FALSE))," ") | I44: =IF(C44="No",IF(D44=0,"Not Applicable","Needs Attention"),"")
B45: Project Management | C45: Available | D45: Score | E45: Value | F45: Difficulty | G45: =ROUND(SUM(G46:G49)/10,0)*10 -> 0 | I45: Status | J45: Comments and Actions
B46: 4.1 There is a defined project lifecycle that is scalable to the nature and complexity of projects enabling a pragmatic approach to governance | G46: =IFERROR(VLOOKUP(E46,ref_sheet!$D$4:$E$6,2,FALSE)*(VLOOKUP(F46,ref_sheet!$D$9:$E$11,2,FALSE))," ") | I46: =IF(C46="No",IF(D46=0,"Not Applicable","Needs Attention"),"")
...

Sheet Figure
D4: =+'PMO Self Assess'!$B$30 -> Executive Support | E4: 3 | F4: 1.5 | G4: -0.5 | H4: -3 | I4: =+'PMO Self Assess'!F10 -> n/a
D5: =+'PMO Self Assess'!$B$35 -> Portfolio Management | E5: 3 | F5: 1.5 | G5: -0.5 | H5: -3 | I5: =+'PMO Self Assess'!F11 -> n/a
D6: =+'PMO Self Assess'!$B$40 -> Programme Management | E6: 3 | F6: 1.5 | G6: -0.5 | H6: -3 | I6: =+'PMO Self Assess'!F12 -> n/a
D7: =+'PMO Self Assess'!$B$45 -> Project Management | E7: 3 | F7: 1.5 | G7: -0.5 | H7: -3 | I7: =+'PMO Self Assess'!F13 -> n/a
D8: =+'PMO Self Assess'!B50 -> Planning | E8: 3 | F8: 1.5 | G8: -0.5 | H8: -3 | I8: =+'PMO Self Assess'!F14 -> n/a
D9: =+'PMO Self Assess'!B55 -> Post Project & Benefits Realisation | E9: 3 | F9: 1.5 | G9: -0.5 | H9: -3 | I9: =+'PMO Self Assess'!F15 -> n/a
D10: =+'PMO Self Assess'!B60 -> Governance Arrangements | E10: 3 | F10: 1.5 | G10: -0.5 | H10: -3 | I10: =+'PMO Self Assess'!F16 -> n/a
D11: =+'PMO Self Assess'!B65 -> Communication & Collaboration | E11: 3 | F11: 1.5 | G11: -0.5 | H11: -3 | I11: =+'PMO Self Assess'!F17 -> n/a
D12: =+'PMO Self Assess'!B70 -> Capability Development | E12: 3 | F12: 1.5 | G12: -0.5 | H12: -3 | I12: =+'PMO Self Assess'!F18 -> n/a
D13: =+'PMO Self Assess'!B75 -> PMO Maturity | E13: 3 | F13: 1.5 | G13: -0.5 | H13: -3 | I13: =+'PMO Self Assess'!F19 -> n/a
E16: -2 | F16: -0.5 | G16: 1 | H16: 2 | I16: 36
E17: -2 | F17: -0.5 | G17: 1 | H17: 2 | I17: 24
E18: -2 | F18: -0.5 | G18: 1 | H18: 2 | I18: 16
E19: -2 | F19: -0.5 | G19: 1 | H19: 2 | I19: 12
E20: -2 | F20: -0.5 | G20: 1 | H20: 2 | I20: 8 | J20: 40 | K20: 1
E21: -2 | F21: -0.5 | G21: 1 | H21: 2 | I21: 4 | J21: 39 | K21: 0.9
E22: -2 | F22: -0.5 | G22: 1 | H22: 2 | I22: 0 | J22: 38 | K22: 0.9
J23: 37 | K23: 0.9
E24: -14 | J24: 36 | K24: 0.9
E25: =E24+1 -> -13 | J25: 35 | K25: 0.9
E26: =E25+1 -> -12 | J26: 34 | K26: 0.9
E27: =E26+1 -> -11 | J27: 33 | K27: 0.9
E28: =E27+1 -> -10 | J28: 32 | K28: 0.9
E29: =E28+1 -> -9 | J29: 31 | K29: 0.9
E30: =E29+1 -> -8 | J30: 30 | K30: 0.9
E31: =E30+1 -> -7 | J31: 29 | K31: 0.9
E32: =E31+1 -> -6 | J32: 28 | K32: 0.9
E33: =E32+1 -> -5 | J33: 27 | K33: 0.9
E34: =E33+1 -> -4 | J34: 26 | K34: 0.9
E35: =E34+1 -> -3 | J35: 25 | K35: 0.9
E36: =E35+1 -> -2 | J36: 24 | K36: 0.9
... E52: =E51+1 -> 14 | J52: 8 | K52: 0.3
J53: 7 | K53: 0.3
J54: 6 | K54: 0.3
J55: 5 | K55: 0.3
J56: 4 | K56: 0.3
J57: 3 | K57: 0.1
J58: 2 | K58: 0.1
J59: 1 | K59: 0.1
J60: 0 | K60: 0
...

Sheet ref_sheet
A1: DO NOT DELETE, AMEND OR MOVE ANYTHING ON THIS SHEET
A3: Yes | B3: Yes | C3: No | D3: Value | E3: Score
A4: Yes | B4: 0 | C4: 0 | D4: Low | E4: 1 | G4: =G7*J4*4 -> 12 | H4: =H7*J4*4 -> 24 | I4: =J4*I7*4 -> 36 | J4: 3
A5: No | B5: 2 | C5: -2 | D5: Medium | E5: 2 | G5: =G7*J5*4 -> 8 | H5: =H7*J5*4 -> 16 | I5: =J5*I7*4 -> 24 | J5: 2
B6: 4 | C6: -4 | D6: High | E6: 3 | G6: =G7*J6*4 -> 4 | H6: =H7*J6*4 -> 8 | I6: =I7*J6*4 -> 12 | J6: 1
G7: 1 | H7: 2 | I7: 3
D8: Difficulty | E8: Score
D9: Low | E9: 3
D10: Medium | E10: 2
D11: High | E11: 1

Sheet Version Control
A1: Comments | B1: Version | C1: Date | D1: Author
A2: First Draft | B2: 1 | C2: 43949 | D2: Emma Arnaz_pemberton
D3: Emma Arnaz_pemberton
D4: Emma Arnaz_pemberton
B5: 2 | C5: 45006 | D5: Emma Arnaz_pemberton
A6: Updated 2024 | B6: 3 | C6: 45489 | D6: Emma Arnaz_pemberton
